BEGIN:VCALENDAR
VERSION:2.0
PRODID:-//Intand Corporation//Tandem//EN
METHOD:PUBLISH
BEGIN:VEVENT
DTSTAMP:20260422T234812Z
DTSTART:20260422T181500Z
DTEND:20260422T193000Z
TRANSP:TRANSPARENT
PRIORITY:0
SUMMARY:BKB - Orlando Basketball Academy
LOCATION:Windermere Preparatory School > Athletics > Gym
DESCRIPTION:Orlando Basketball Academy Training and Practice\n\n\nGroups:\
 nBasketball - Orlando Basketball Academy\n\nSchools:\nAthletics\n\nLocatio
 n:\nWindermere Preparatory School > Athletics > Gym\n\n
URL;VALUE=URI:http://windermerepreparatory.tandem.co/index.php?type=view&a
 ction=event&id=62987
CREATED:20260303T170401Z
LAST-MODIFIED:20260303T170401Z
UID:event-62987-windermerepreparatory@intand.com
END:VEVENT
END:VCALENDAR
